BEGIN:VCALENDAR
VERSION:2.0
PRODID:-//Squarespace Inc/Squarespace 6//v6//EN
BEGIN:VEVENT
UID:5d19359023d790000164578c@squarespace.com
DTSTAMP:20190630T222139Z
DTSTART:20190721T203000Z
DTEND:20190729T033000Z
SUMMARY:New Operating Hours
END:VEVENT
END:VCALENDAR
