BEGIN:VCALENDAR
VERSION:2.0
PRODID:-//Squarespace Inc/Squarespace 6//v6//EN
BEGIN:VEVENT
UID:5cd8b703f4e1fcc9bbe842d6@squarespace.com
DTSTAMP:20190513T001551Z
DTSTART:20190602T210000Z
DTEND:20190603T030000Z
SUMMARY:Queens Birthday
END:VEVENT
END:VCALENDAR
