BEGIN:VCALENDAR
VERSION:2.0
PRODID:-//Squarespace Inc/Squarespace 6//v6//EN
BEGIN:VEVENT
UID:5cd8b9186e9a7f57d77da8e2@squarespace.com
DTSTAMP:20190513T002425Z
DTSTART:20190530T220000Z
DTEND:20190530T230000Z
SUMMARY:Waitaki Valley School Visit
END:VEVENT
END:VCALENDAR
