BEGIN:VCALENDAR
VERSION:2.0
PRODID:-//Squarespace Inc/Squarespace 6//v6//EN
BEGIN:VEVENT
UID:5cd8b8d20d92975e0f430d6f@squarespace.com
DTSTAMP:20190513T002342Z
DTSTART:20190523T220000Z
DTEND:20190523T230000Z
SUMMARY:Waitaki Valley School Visit
END:VEVENT
END:VCALENDAR
