BEGIN:VCALENDAR
VERSION:2.0
PRODID:-//Squarespace Inc/Squarespace 6//v6//EN
BEGIN:VEVENT
UID:5cd8b6946e9a7f57d77d96fd@squarespace.com
DTSTAMP:20190513T001448Z
DTSTART:20190514T230000Z
DTEND:20190516T030000Z
SUMMARY:Education Review Office Visit
END:VEVENT
END:VCALENDAR
