BEGIN:VCALENDAR
VERSION:2.0
PRODID:-//Squarespace Inc/Squarespace 6//v6//EN
BEGIN:VEVENT
UID:5ca5585c9140b75291bc35e9@squarespace.com
DTSTAMP:20190404T011113Z
DTSTART:20190404T200000Z
DTEND:20190405T020000Z
SUMMARY:GUMBOOTUP NZ!
END:VEVENT
END:VCALENDAR
