BEGIN:VCALENDAR
VERSION:2.0
PRODID:-//Squarespace Inc/Squarespace 6//v6//EN
BEGIN:VEVENT
UID:5c8af2e3e5e5f0a9f601913f@squarespace.com
DTSTAMP:20190410T224109Z
DTSTART:20190414T210000Z
DTEND:20190426T030000Z
SUMMARY:Primary School Holidays
GEO:-44.743349;170.463501
LOCATION:Waitaki Valley Preschool\, Settlement Rd\, Kurow\, new zealand
END:VEVENT
END:VCALENDAR
