BEGIN:VCALENDAR
VERSION:2.0
PRODID:-//Squarespace Inc/Squarespace 6//v6//EN
BEGIN:VEVENT
UID:5c8aed23eef1a15f16d59e33@squarespace.com
DTSTAMP:20190317T221712Z
DTSTART:20190409T233000Z
DTEND:20190410T003000Z
SUMMARY:Cultural Day
GEO:-44.743433;170.463871
LOCATION:Waitaki valley Preschool\, Settlement Rd\, Kurow\, New Zealand
END:VEVENT
END:VCALENDAR
